BEGIN:VCALENDAR
VERSION:2.0
PRODID:-//Des Moines Area Quilter&#039;s Guild - ECPv6.15.19//NONSGML v1.0//EN
CALSCALE:GREGORIAN
METHOD:PUBLISH
X-ORIGINAL-URL:https://dmaqg.org
X-WR-CALDESC:Events for Des Moines Area Quilter&#039;s Guild
REFRESH-INTERVAL;VALUE=DURATION:PT1H
X-Robots-Tag:noindex
X-PUBLISHED-TTL:PT1H
BEGIN:VTIMEZONE
TZID:America/Chicago
BEGIN:DAYLIGHT
TZOFFSETFROM:-0600
TZOFFSETTO:-0500
TZNAME:CDT
DTSTART:20220313T080000
END:DAYLIGHT
BEGIN:STANDARD
TZOFFSETFROM:-0500
TZOFFSETTO:-0600
TZNAME:CST
DTSTART:20221106T070000
END:STANDARD
BEGIN:DAYLIGHT
TZOFFSETFROM:-0600
TZOFFSETTO:-0500
TZNAME:CDT
DTSTART:20230312T080000
END:DAYLIGHT
BEGIN:STANDARD
TZOFFSETFROM:-0500
TZOFFSETTO:-0600
TZNAME:CST
DTSTART:20231105T070000
END:STANDARD
BEGIN:DAYLIGHT
TZOFFSETFROM:-0600
TZOFFSETTO:-0500
TZNAME:CDT
DTSTART:20240310T080000
END:DAYLIGHT
BEGIN:STANDARD
TZOFFSETFROM:-0500
TZOFFSETTO:-0600
TZNAME:CST
DTSTART:20241103T070000
END:STANDARD
END:VTIMEZONE
BEGIN:VEVENT
DTSTART;TZID=America/Chicago:20230815T183000
DTEND;TZID=America/Chicago:20230815T183000
DTSTAMP:20260421T044217
CREATED:20230110T155733Z
LAST-MODIFIED:20230110T155733Z
UID:4945-1692124200-1692124200@dmaqg.org
SUMMARY:Newcomers
DESCRIPTION:Open to anyone who joined the Guild within the last year and anyone who wants to come to meet other members in a smaller setting. There will be speakers\, trunk shows\, and visitors lined up throughout the year. Always bring show & tell and wear a nametag. We look forward to getting to know you!
URL:https://dmaqg.org/event/newcomers-7/
LOCATION:West Des Moines Senior Center\, 136 6th Street\, West Des Moines\, Iowa\, 50265\, United States
END:VEVENT
BEGIN:VEVENT
DTSTART;TZID=America/Chicago:20230822T180000
DTEND;TZID=America/Chicago:20230822T180000
DTSTAMP:20260421T044217
CREATED:20230110T155733Z
LAST-MODIFIED:20230110T160121Z
UID:4946-1692727200-1692727200@dmaqg.org
SUMMARY:ONE Guild Meeting
DESCRIPTION:One Guild Meeting at 6 pm
URL:https://dmaqg.org/event/guild-meetings-1pm-630pm-6/
LOCATION:West Des Moines Christian Church\, 4501 Mills Civic Pkwy\, West Des Moines\, IA\, 50265\, United States
END:VEVENT
END:VCALENDAR