BEGIN:VCALENDAR
VERSION:2.0
PRODID:-//Des Moines Area Quilter&#039;s Guild - ECPv6.15.19//NONSGML v1.0//EN
CALSCALE:GREGORIAN
METHOD:PUBLISH
X-ORIGINAL-URL:https://dmaqg.org
X-WR-CALDESC:Events for Des Moines Area Quilter&#039;s Guild
REFRESH-INTERVAL;VALUE=DURATION:PT1H
X-Robots-Tag:noindex
X-PUBLISHED-TTL:PT1H
BEGIN:VTIMEZONE
TZID:UTC
BEGIN:STANDARD
TZOFFSETFROM:+0000
TZOFFSETTO:+0000
TZNAME:UTC
DTSTART:20190101T000000
END:STANDARD
END:VTIMEZONE
BEGIN:VEVENT
DTSTART;TZID=UTC:20200616T183000
DTEND;TZID=UTC:20200616T200000
DTSTAMP:20260421T062340
CREATED:20200211T224353Z
LAST-MODIFIED:20200211T224353Z
UID:3977-1592332200-1592337600@dmaqg.org
SUMMARY:Newcomers Meeting
DESCRIPTION:Newcomers meetings are open to new guild members who have joined within the last year. The meetings are held the THIRD TUESDAY of each month\, January through October at 6:30 pm.
URL:https://dmaqg.org/event/newcomers-meeting-38/
LOCATION:Polk County Community Center\, 134 6th Street\, West Des Moines\, IA\, United States
END:VEVENT
BEGIN:VEVENT
DTSTART;TZID=UTC:20200624T090000
DTEND;TZID=UTC:20200624T160000
DTSTAMP:20260421T062340
CREATED:20191112T225144Z
LAST-MODIFIED:20191112T225144Z
UID:3825-1592989200-1593014400@dmaqg.org
SUMMARY:Workshop: Parisian Curves
DESCRIPTION:Carole Lyles Shaw \nImprovisationally cut and piecing quarter-circle curves. No pinning or templates necessary. \nRegister on the Workshop Page
URL:https://dmaqg.org/event/workshop-parisian-curves/
LOCATION:West Des Moines Christian Church\, 4501 Mills Civic Pkwy\, West Des Moines\, IA\, 50265\, United States
END:VEVENT
END:VCALENDAR