BEGIN:VCALENDAR
VERSION:2.0
PRODID:-//Des Moines Area Quilter&#039;s Guild - ECPv6.15.19//NONSGML v1.0//EN
CALSCALE:GREGORIAN
METHOD:PUBLISH
X-WR-CALNAME:Des Moines Area Quilter&#039;s Guild
X-ORIGINAL-URL:https://dmaqg.org
X-WR-CALDESC:Events for Des Moines Area Quilter&#039;s Guild
REFRESH-INTERVAL;VALUE=DURATION:PT1H
X-Robots-Tag:noindex
X-PUBLISHED-TTL:PT1H
BEGIN:VTIMEZONE
TZID:UTC
BEGIN:STANDARD
TZOFFSETFROM:+0000
TZOFFSETTO:+0000
TZNAME:UTC
DTSTART:20190101T000000
END:STANDARD
END:VTIMEZONE
BEGIN:VEVENT
DTSTART;TZID=UTC:20200519T183000
DTEND;TZID=UTC:20200519T200000
DTSTAMP:20260421T074114
CREATED:20200211T224323Z
LAST-MODIFIED:20200211T224323Z
UID:3975-1589913000-1589918400@dmaqg.org
SUMMARY:Newcomers Meeting
DESCRIPTION:Newcomers meetings are open to new guild members who have joined within the last year. The meetings are held the THIRD TUESDAY of each month\, January through October at 6:30 pm.
URL:https://dmaqg.org/event/newcomers-meeting-37/
LOCATION:Polk County Community Center\, 134 6th Street\, West Des Moines\, IA\, United States
END:VEVENT
BEGIN:VEVENT
DTSTART;TZID=UTC:20200527T090000
DTEND;TZID=UTC:20200527T120000
DTSTAMP:20260421T074114
CREATED:20191112T225000Z
LAST-MODIFIED:20191112T225000Z
UID:3821-1590570000-1590580800@dmaqg.org
SUMMARY:Workshop: License to Play
DESCRIPTION:Diane Murtha \nA twist on tradition. Explore creative ways to modify traditional block patterns. \nRegister on the Workshop Page
URL:https://dmaqg.org/event/workshop-license-to-play/
LOCATION:West Des Moines Christian Church\, 4501 Mills Civic Pkwy\, West Des Moines\, IA\, 50265\, United States
END:VEVENT
BEGIN:VEVENT
DTSTART;TZID=UTC:20200527T130000
DTEND;TZID=UTC:20200527T160000
DTSTAMP:20260421T074114
CREATED:20191112T225046Z
LAST-MODIFIED:20191112T225051Z
UID:3823-1590584400-1590595200@dmaqg.org
SUMMARY:Workshop: Modified Quilt as You Go
DESCRIPTION:Diane Murtha \nQuilting through each block and batting makes quilting easy for both new and experienced quilters. Add the backing later for step two. \nRegister on the Workshop Page
URL:https://dmaqg.org/event/workshop-modified-quilt-as-you-go/
LOCATION:West Des Moines Christian Church\, 4501 Mills Civic Pkwy\, West Des Moines\, IA\, 50265\, United States
END:VEVENT
END:VCALENDAR