BEGIN:VCALENDAR
VERSION:2.0
PRODID:-//Des Moines Area Quilter&#039;s Guild - ECPv6.15.19//NONSGML v1.0//EN
CALSCALE:GREGORIAN
METHOD:PUBLISH
X-ORIGINAL-URL:https://dmaqg.org
X-WR-CALDESC:Events for Des Moines Area Quilter&#039;s Guild
REFRESH-INTERVAL;VALUE=DURATION:PT1H
X-Robots-Tag:noindex
X-PUBLISHED-TTL:PT1H
BEGIN:VTIMEZONE
TZID:UTC
BEGIN:STANDARD
TZOFFSETFROM:+0000
TZOFFSETTO:+0000
TZNAME:UTC
DTSTART:20190101T000000
END:STANDARD
END:VTIMEZONE
BEGIN:VEVENT
DTSTART;TZID=UTC:20200416T090000
DTEND;TZID=UTC:20200419T150000
DTSTAMP:20260421T090917
CREATED:20200109T013036Z
LAST-MODIFIED:20200109T013115Z
UID:3889-1587027600-1587308400@dmaqg.org
SUMMARY:Spring Retreat
DESCRIPTION:Join us for three and a half days of sewing with friends in a comfortable\, away-from-home setting. Options to stay overnight or not\, plus meals served.
URL:https://dmaqg.org/event/spring-retreat-2/
LOCATION:Camp Wesley Woods\, Indianola\, 10896 Nixon St\, Indianola\, IA\, 50125\, United States
END:VEVENT
BEGIN:VEVENT
DTSTART;TZID=UTC:20200421T183000
DTEND;TZID=UTC:20200421T200000
DTSTAMP:20260421T090917
CREATED:20200211T224256Z
LAST-MODIFIED:20200211T224256Z
UID:3973-1587493800-1587499200@dmaqg.org
SUMMARY:Newcomers Meeting
DESCRIPTION:Newcomers meetings are open to new guild members who have joined within the last year. The meetings are held the THIRD TUESDAY of each month\, January through October at 6:30 pm.
URL:https://dmaqg.org/event/newcomers-meeting-36/
LOCATION:Polk County Community Center\, 134 6th Street\, West Des Moines\, IA\, United States
END:VEVENT
BEGIN:VEVENT
DTSTART;TZID=UTC:20200429T090000
DTEND;TZID=UTC:20200429T160000
DTSTAMP:20260421T090917
CREATED:20191112T224839Z
LAST-MODIFIED:20191112T224839Z
UID:3819-1588150800-1588176000@dmaqg.org
SUMMARY:Workshop: Barn Raising
DESCRIPTION:Carl Hentsch \nIt’s a log cabin made into a lone star quilt. Start with a 45 degree diamond and end with an amazing star quilt. \nRegister on the Workshop Page
URL:https://dmaqg.org/event/workshop-barn-raising/
LOCATION:West Des Moines Christian Church\, 4501 Mills Civic Pkwy\, West Des Moines\, IA\, 50265\, United States
END:VEVENT
END:VCALENDAR