BEGIN:VCALENDAR
VERSION:2.0
PRODID:-//Des Moines Area Quilter&#039;s Guild - ECPv6.15.19//NONSGML v1.0//EN
CALSCALE:GREGORIAN
METHOD:PUBLISH
X-ORIGINAL-URL:https://dmaqg.org
X-WR-CALDESC:Events for Des Moines Area Quilter&#039;s Guild
REFRESH-INTERVAL;VALUE=DURATION:PT1H
X-Robots-Tag:noindex
X-PUBLISHED-TTL:PT1H
BEGIN:VTIMEZONE
TZID:UTC
BEGIN:STANDARD
TZOFFSETFROM:+0000
TZOFFSETTO:+0000
TZNAME:UTC
DTSTART:20190101T000000
END:STANDARD
END:VTIMEZONE
BEGIN:VEVENT
DTSTART;TZID=UTC:20200128T083000
DTEND;TZID=UTC:20200128T233000
DTSTAMP:20260421T130901
CREATED:20191112T224449Z
LAST-MODIFIED:20191112T224449Z
UID:3811-1580200200-1580254200@dmaqg.org
SUMMARY:Workshop: Precision & Panache Demo
DESCRIPTION:Susan Cleveland \nLearn to add eye-catching details to quilts and increase accuracy. No sewing supplies needed \nRegister on the Workshop Page
URL:https://dmaqg.org/event/workshop-precision-panache-demo/
LOCATION:West Des Moines Christian Church\, 4501 Mills Civic Pkwy\, West Des Moines\, IA\, 50265\, United States
END:VEVENT
BEGIN:VEVENT
DTSTART;TZID=UTC:20200129T090000
DTEND;TZID=UTC:20200129T160000
DTSTAMP:20260421T130901
CREATED:20191112T224541Z
LAST-MODIFIED:20191112T224541Z
UID:3813-1580288400-1580313600@dmaqg.org
SUMMARY:Workshop: Piping Hot Binding
DESCRIPTION:Susan Cleveland \nEvery detail of binding and tiny perfect piping will be covered in class with step-by-step demonstrations and printed instructions \nRegister on the Workshop Page
URL:https://dmaqg.org/event/workshop-piping-hot-binding/
LOCATION:West Des Moines Christian Church\, 4501 Mills Civic Pkwy\, West Des Moines\, IA\, 50265\, United States
END:VEVENT
END:VCALENDAR