BEGIN:VCALENDAR
VERSION:2.0
PRODID:-//Des Moines Area Quilter&#039;s Guild - ECPv6.15.20//NONSGML v1.0//EN
CALSCALE:GREGORIAN
METHOD:PUBLISH
X-WR-CALNAME:Des Moines Area Quilter&#039;s Guild
X-ORIGINAL-URL:https://dmaqg.org
X-WR-CALDESC:Events for Des Moines Area Quilter&#039;s Guild
REFRESH-INTERVAL;VALUE=DURATION:PT1H
X-Robots-Tag:noindex
X-PUBLISHED-TTL:PT1H
BEGIN:VTIMEZONE
TZID:UTC
BEGIN:STANDARD
TZOFFSETFROM:+0000
TZOFFSETTO:+0000
TZNAME:UTC
DTSTART:20180101T000000
END:STANDARD
END:VTIMEZONE
BEGIN:VEVENT
DTSTART;TZID=UTC:20190917T183000
DTEND;TZID=UTC:20190917T200000
DTSTAMP:20260423T075425
CREATED:20190111T011036Z
LAST-MODIFIED:20190111T011036Z
UID:3518-1568745000-1568750400@dmaqg.org
SUMMARY:Newcomers Meeting
DESCRIPTION:Newcomers meetings are open to new guild members who have joined within the last year. The meetings are held the THIRD TUESDAY of each month from January through October at 6:30 PM at the Polk County West Side Community Center at 134 6th St.in Valley Junction in West Des Moines.
URL:https://dmaqg.org/event/newcomers-meeting-32/
LOCATION:Polk County Community Center\, 134 6th Street\, West Des Moines\, IA\, United States
END:VEVENT
BEGIN:VEVENT
DTSTART;TZID=UTC:20190926T090000
DTEND;TZID=UTC:20190926T180000
DTSTAMP:20260423T075425
CREATED:20181116T235839Z
LAST-MODIFIED:20181116T235839Z
UID:3444-1569488400-1569520800@dmaqg.org
SUMMARY:Quilt Show
DESCRIPTION:“We Color The World” DMAQG Quilt Show\n \nAt the Cultural Building on the Iowa State Fair grounds. \nMore information on the Quilt Show Page
URL:https://dmaqg.org/event/quilt-show/
LOCATION:Iowa State Fairgrounds\, 3000 E Grand Avenue\, Des moines\, IA\, 50317
END:VEVENT
BEGIN:VEVENT
DTSTART;TZID=UTC:20190927T090000
DTEND;TZID=UTC:20190927T180000
DTSTAMP:20260423T075425
CREATED:20181116T235923Z
LAST-MODIFIED:20181116T235923Z
UID:3447-1569574800-1569607200@dmaqg.org
SUMMARY:Quilt Show
DESCRIPTION:“We Color The World” DMAQG Quilt Show\n \nAt the Cultural Building on the Iowa State Fair grounds. \nMore information on the Quilt Show Page
URL:https://dmaqg.org/event/quilt-show-2/
LOCATION:Iowa State Fairgrounds\, 3000 E Grand Avenue\, Des moines\, IA\, 50317
END:VEVENT
BEGIN:VEVENT
DTSTART;TZID=UTC:20190928T090000
DTEND;TZID=UTC:20190928T170000
DTSTAMP:20260423T075425
CREATED:20181116T235949Z
LAST-MODIFIED:20181116T235949Z
UID:3449-1569661200-1569690000@dmaqg.org
SUMMARY:Quilt Show
DESCRIPTION:“We Color The World” DMAQG Quilt Show\n \nAt the Cultural Building on the Iowa State Fair grounds. \nMore information on the Quilt Show Page
URL:https://dmaqg.org/event/quilt-show-3/
LOCATION:Iowa State Fairgrounds\, 3000 E Grand Avenue\, Des moines\, IA\, 50317
END:VEVENT
END:VCALENDAR