BEGIN:VCALENDAR
VERSION:2.0
PRODID:-//Des Moines Area Quilter&#039;s Guild - ECPv6.15.20//NONSGML v1.0//EN
CALSCALE:GREGORIAN
METHOD:PUBLISH
X-WR-CALNAME:Des Moines Area Quilter&#039;s Guild
X-ORIGINAL-URL:https://dmaqg.org
X-WR-CALDESC:Events for Des Moines Area Quilter&#039;s Guild
REFRESH-INTERVAL;VALUE=DURATION:PT1H
X-Robots-Tag:noindex
X-PUBLISHED-TTL:PT1H
BEGIN:VTIMEZONE
TZID:UTC
BEGIN:STANDARD
TZOFFSETFROM:+0000
TZOFFSETTO:+0000
TZNAME:UTC
DTSTART:20180101T000000
END:STANDARD
END:VTIMEZONE
BEGIN:VEVENT
DTSTART;TZID=UTC:20190521T183000
DTEND;TZID=UTC:20190521T200000
DTSTAMP:20260423T131301
CREATED:20190111T010607Z
LAST-MODIFIED:20190111T010607Z
UID:3510-1558463400-1558468800@dmaqg.org
SUMMARY:Newcomers Meeting
DESCRIPTION:Newcomers meetings are open to new guild members who have joined within the last year. The meetings are held the THIRD TUESDAY of each month from January through October at 6:30 PM at the Polk County West Side Community Center at 134 6th St.in Valley Junction in West Des Moines.
URL:https://dmaqg.org/event/newcomers-meeting-28/
LOCATION:IA
END:VEVENT
BEGIN:VEVENT
DTSTART;TZID=UTC:20190529T090000
DTEND;TZID=UTC:20190529T160000
DTSTAMP:20260423T131301
CREATED:20181115T215722Z
LAST-MODIFIED:20181115T215722Z
UID:3398-1559120400-1559145600@dmaqg.org
SUMMARY:Workshop: "Moonlit/Sunlit Landscapes"
DESCRIPTION:Instructor: Valerie Funk \nMore Details and Registration on the Workshop Page
URL:https://dmaqg.org/event/workshop-moonlit-sunlit-landscapes/
LOCATION:West Des Moines Christian Church\, 4501 Mills Civic Pkwy\, West Des Moines\, IA\, 50265\, United States
END:VEVENT
BEGIN:VEVENT
DTSTART;TZID=UTC:20190530T090000
DTEND;TZID=UTC:20190530T160000
DTSTAMP:20260423T131301
CREATED:20181115T220121Z
LAST-MODIFIED:20181115T220121Z
UID:3400-1559206800-1559232000@dmaqg.org
SUMMARY:Workshop: "Curvy Improv"
DESCRIPTION:Instructor: Valerie Funk \nMore Details and Registration on the Workshop Page
URL:https://dmaqg.org/event/workshop-curvy-improv/
LOCATION:West Des Moines Christian Church\, 4501 Mills Civic Pkwy\, West Des Moines\, IA\, 50265\, United States
END:VEVENT
END:VCALENDAR