BEGIN:VCALENDAR
VERSION:2.0
PRODID:-//Des Moines Area Quilter&#039;s Guild - ECPv6.15.20//NONSGML v1.0//EN
CALSCALE:GREGORIAN
METHOD:PUBLISH
X-WR-CALNAME:Des Moines Area Quilter&#039;s Guild
X-ORIGINAL-URL:https://dmaqg.org
X-WR-CALDESC:Events for Des Moines Area Quilter&#039;s Guild
REFRESH-INTERVAL;VALUE=DURATION:PT1H
X-Robots-Tag:noindex
X-PUBLISHED-TTL:PT1H
BEGIN:VTIMEZONE
TZID:UTC
BEGIN:STANDARD
TZOFFSETFROM:+0000
TZOFFSETTO:+0000
TZNAME:UTC
DTSTART:20180101T000000
END:STANDARD
END:VTIMEZONE
BEGIN:VEVENT
DTSTART;TZID=UTC:20190319T183000
DTEND;TZID=UTC:20190319T200000
DTSTAMP:20260423T154528
CREATED:20190111T010351Z
LAST-MODIFIED:20190111T010533Z
UID:3506-1553020200-1553025600@dmaqg.org
SUMMARY:Newcomers Meeting
DESCRIPTION:Newcomers meetings are open to new guild members who have joined within the last year. The meetings are held the THIRD TUESDAY of each month from January through October at 6:30 PM at the Polk County West Side Community Center at 134 6th St.in Valley Junction in West Des Moines.
URL:https://dmaqg.org/event/newcomers-meeting-26/
LOCATION:Polk County Community Center\, 134 6th Street\, West Des Moines\, IA\, United States
END:VEVENT
BEGIN:VEVENT
DTSTART;TZID=UTC:20190327T090000
DTEND;TZID=UTC:20190327T160000
DTSTAMP:20260423T154528
CREATED:20181115T215224Z
LAST-MODIFIED:20181115T215224Z
UID:3390-1553677200-1553702400@dmaqg.org
SUMMARY:Workshop: "String Piecing"
DESCRIPTION:Instructor: Linzee Kull McCray \nMore Details and Registration on the Workshop Page
URL:https://dmaqg.org/event/workshop-string-piecing/
LOCATION:West Des Moines Christian Church\, 4501 Mills Civic Pkwy\, West Des Moines\, IA\, 50265\, United States
END:VEVENT
BEGIN:VEVENT
DTSTART;TZID=UTC:20190328T090000
DTEND;TZID=UTC:20190328T160000
DTSTAMP:20260423T154528
CREATED:20181115T215311Z
LAST-MODIFIED:20181115T215311Z
UID:3392-1553763600-1553788800@dmaqg.org
SUMMARY:Workshop: "Goodness Grows Table Runner"
DESCRIPTION:Instructor: Linzee Kull McCray \nMore Details and Registration on the Workshop Page
URL:https://dmaqg.org/event/workshop-goodness-grows-table-runner/
LOCATION:West Des Moines Christian Church\, 4501 Mills Civic Pkwy\, West Des Moines\, IA\, 50265\, United States
END:VEVENT
BEGIN:VEVENT
DTSTART;TZID=UTC:20190328T090000
DTEND;TZID=UTC:20190331T150000
DTSTAMP:20260423T154528
CREATED:20181117T025738Z
LAST-MODIFIED:20181117T025828Z
UID:3463-1553763600-1554044400@dmaqg.org
SUMMARY:Guild Spring Retreat
DESCRIPTION:More details on this page\, closer to the event date.
URL:https://dmaqg.org/event/guild-spring-retreat/
LOCATION:Camp Wesley Woods\, Indianola\, 10896 Nixon St\, Indianola\, IA\, 50125\, United States
END:VEVENT
BEGIN:VEVENT
DTSTART;TZID=UTC:20190328T090000
DTEND;TZID=UTC:20190331T150000
DTSTAMP:20260423T154528
CREATED:20190114T221710Z
LAST-MODIFIED:20190114T221710Z
UID:3526-1553763600-1554044400@dmaqg.org
SUMMARY:Guild Spring Retreat
DESCRIPTION:More details on this page: dmaqg.org/programs/retreats
URL:https://dmaqg.org/event/guild-spring-retreat-2/
LOCATION:Camp Wesley Woods\, Indianola\, 10896 Nixon St\, Indianola\, IA\, 50125\, United States
END:VEVENT
END:VCALENDAR